BEGIN:VCALENDAR
VERSION:2.0
PRODID:-//wp-events-plugin.com//7.2.2.1//EN
BEGIN:VEVENT
UID:88@palions.org
DTSTART;VALUE=DATE:20251031
DTEND;VALUE=DATE:20251102
DTSTAMP:20250614T122018Z
URL:https://www.palions.org/events/event/state-council-meeting-2025-2026-2
 /
SUMMARY:State Council Meeting 2025-2026 #2
DESCRIPTION:Details TBD\n\nTraining\n\n 	8:00-10:00am 1st and 2nd VDG Train
 ing\n 	1st and 2nd VDG's - Attendance required\n
CATEGORIES:State-Council-Meeting,Training
LOCATION:Red Lion Hotel Harrisburg Hershey\, 4751 Lindle Road\, Harrisburg\
 , PA\, 17111\, United States
GEO:40.241792;-76.80055
X-APPLE-STRUCTURED-LOCATION;VALUE=URI;X-ADDRESS=4751 Lindle Road\, Harrisbu
 rg\, PA\, 17111\, United States;X-APPLE-RADIUS=100;X-TITLE=Red Lion Hotel 
 Harrisburg Hershey:geo:40.241792,-76.80055
END:VEVENT
END:VCALENDAR