BEGIN:VCALENDAR
VERSION:2.0
PRODID:-//wp-events-plugin.com//7.2.2.1//EN
BEGIN:VEVENT
UID:25@palions.org
DTSTART;VALUE=DATE:20210522
DTEND;VALUE=DATE:20210523
DTSTAMP:20201230T020633Z
URL:https://www.palions.org/events/event/membership-connection-seminar/
SUMMARY:Membership Connection Seminar
DESCRIPTION:Seminar Flyer:\n[download id="2107"]\n
CATEGORIES:Training
LOCATION:Ramada by Wyndham State College\, 1450 S. Atherton St.\, State Col
 lege\, PA\, 16801\, United States
GEO:40.784339;-77.839944
X-APPLE-STRUCTURED-LOCATION;VALUE=URI;X-ADDRESS=1450 S. Atherton St.\, Stat
 e College\, PA\, 16801\, United States;X-APPLE-RADIUS=100;X-TITLE=Ramada b
 y Wyndham State College:geo:40.784339,-77.839944
END:VEVENT
END:VCALENDAR