BEGIN:VCALENDAR
VERSION:2.0
PRODID:-//wp-events-plugin.com//7.2.2.1//EN
BEGIN:VEVENT
UID:97@palions.org
DTSTART:20270513T000000Z
DTEND:20270516T000000Z
DTSTAMP:20260425T145520Z
URL:https://www.palions.org/events/event/2026-2027-state-convention-and-co
 uncil-meeting/
SUMMARY:2026-2027 State Convention and Council Meeting
DESCRIPTION:
CATEGORIES:State-Convention,State-Council-Meeting
END:VEVENT
END:VCALENDAR