BEGIN:VCALENDAR
VERSION:2.0
PRODID:-//wp-events-plugin.com//7.2.2.1//EN
BEGIN:VEVENT
UID:95@palions.org
DTSTART:20261030T000000Z
DTEND:20261101T000000Z
DTSTAMP:20260425T144755Z
URL:https://www.palions.org/events/event/2026-2027-council-meeting-2/
SUMMARY:2026-2027 Council Meeting #2
DESCRIPTION:
ATTACH;FMTTYPE=image/jpeg:https://www.palions.org/wp-content/uploads/2026/
 04/best-western-premier-harrisburg.jpeg
CATEGORIES:State-Council-Meeting
LOCATION:Best Western Premier Hotel & Conference Center\, 800 East Park Dri
 ve\, Harrisburg\, PA\, 17111\, United States
GEO:40.273664;-76.815369
X-APPLE-STRUCTURED-LOCATION;VALUE=URI;X-ADDRESS=800 East Park Drive\, Harri
 sburg\, PA\, 17111\, United States;X-APPLE-RADIUS=100;X-TITLE=Best Western
  Premier Hotel & Conference Center:geo:40.273664,-76.815369
END:VEVENT
END:VCALENDAR