BEGIN:VCALENDAR
VERSION:2.0
PRODID:-//wp-events-plugin.com//7.2.2.1//EN
BEGIN:VEVENT
UID:8@palions.org
DTSTART:20210516T120000Z
DTEND:20210516T170000Z
DTSTAMP:20210421T210507Z
URL:https://www.palions.org/events/event/2021-state-convention/
SUMMARY:2021 State Convention
DESCRIPTION:This year’s MD-14 Convention is entirely digital.  See detai
 ls about the agenda and content\, including comments from our Internationa
 l President\, in the flyer using the link below.\n\n[download id="2307"]\n
 \nConvention Chair\n\nPDG Dennis Clark\nBurnham Lions Club 14-L\nEmail me
ATTACH;FMTTYPE=image/jpeg:https://www.palions.org/wp-content/uploads/2019/
 11/F4C21C8D-E596-4151-A155-EEB2CEF752BA.jpeg
CATEGORIES:State-Convention
END:VEVENT
END:VCALENDAR