BEGIN:VCALENDAR
VERSION:2.0
PRODID:-//wp-events-plugin.com//7.2.2.1//EN
BEGIN:VEVENT
UID:6@palions.org
DTSTART;VALUE=DATE:20200514
DTEND;VALUE=DATE:20200518
DTSTAMP:20200407T160845Z
URL:https://www.palions.org/events/event/2020-state-convention/
SUMMARY:2020 State Convention and Council Meeting 4
DESCRIPTION:This event has been CANCELLED as of 4/6/2020.  See this postin
 g regarding the cancellation.\n\nA separate teleconference meeting has bee
 n called for State Council Meeting #4 as a result of this cancellation.\n\
 nConvention Information\n\n 	Registration Form\n 	Convention Schedule\n 	P
 rograms (including banquets)\n 	Meal Menu (courtesy of District 14-F)\n 	H
 ospitality\n 	Program Advertising Contract\n 	Diabetes Vision Walk\n\nCoun
 cil Meeting\n\n 	Call for Council Meeting\n 	Tentative Agenda\n\nVoting\n\
 n 	Ballot Questions\n 	PDG Credentials\n 	Club Member Credentials\n\n&nbsp
 \;\n\nConvention Chair\nPDG Robert Blake\nJamestown Lions Club 14-F\nEmail
  me
ATTACH;FMTTYPE=image/jpeg:https://www.palions.org/wp-content/uploads/2019/
 11/07D12AFF-8113-4952-AAD4-AB0DD2D8A01C-e1584488230891.jpeg
CATEGORIES:State-Convention,State-Council-Meeting
LOCATION:Bayfront Convention Center\, 1 Sassafras Pier\, Erie\, PA\, 16507\
 , United States
GEO:42.137052;-80.094172
X-APPLE-STRUCTURED-LOCATION;VALUE=URI;X-ADDRESS=1 Sassafras Pier\, Erie\, P
 A\, 16507\, United States;X-APPLE-RADIUS=100;X-TITLE=Bayfront Convention C
 enter:geo:42.137052,-80.094172
END:VEVENT
END:VCALENDAR