BEGIN:VCALENDAR
VERSION:2.0
PRODID:-//wp-events-plugin.com//7.2.2.1//EN
BEGIN:VEVENT
UID:21@palions.org
DTSTART:20200516T140000Z
DTEND:20200516T170000Z
DTSTAMP:20200407T160445Z
URL:https://www.palions.org/events/event/2019-2020-state-council-meeting-4
 /
SUMMARY:2019-2020 State Council Meeting #4
DESCRIPTION:Information\n\n\n 	Call for Council Meeting\n
CATEGORIES:State-Council-Meeting
END:VEVENT
END:VCALENDAR